BEGIN:VCALENDAR
VERSION:2.0
PRODID:-//eventon.com NONSGML v1.0//EN
BEGIN:VEVENT
UID:69e8fefa02cfd
DTSTAMP:20260423T000146
DTSTART:20260327T160000Z
DTEND:20260327T200000Z
TZID:Asia/Jakarta
LOCATION:Universitas Katolik Parahyangan Jln. Ciumbuleuit no. 94
SUMMARY:Ibadat Tobat dan Pengakuan Dosa Prapaskah 2026
DESCRIPTION: Salam Damai Kristus\, Sehubungan dengan persiapan batin dalam menyambut Kebangkitan Yesus Kristus\,  kami mengundang saudara-saudari yang terkasih untuk mengikuti Ibadat Tobat dan Pengakuan Dosa yang akan dilaksanakan pada: Hari\,  Tanggal&nbsp;&nbsp;&nbsp;&nbsp;&nbsp;&nbsp;&nbsp;&nbsp;&nbsp; : Jumat\,  27 Maret 2026 Waktu&nbsp; &nbsp; &nbsp; &nbsp; &nbsp; &nbsp; &nbsp; &nbsp;&nbsp;&nbsp;&nbsp;&nbsp;&nbsp;&nbsp;: Pukul 16:00 &#8211; selesai Tempat&nbsp; &nbsp; &nbsp; &nbsp;[..]\nhttps://lph.unpar.ac.id/events/ibadat-tobat-dan-pengakuan-dosa-prapaskah-2026/
URL:https://lph.unpar.ac.id/events/ibadat-tobat-dan-pengakuan-dosa-prapaskah-2026/
END:VEVENT
END:VCALENDAR